View In:
ArcGIS JavaScript
ArcGIS Online Map Viewer
ArcGIS Earth
ArcGIS Pro
Service Description:
Map Name: Layers
Legend
All Layers and Tables
Layers:
Description:
Service Item Id: 05236492a9c748c39072ac3124a48011
Copyright Text:
Spatial Reference:
102113
(3785)
LatestVCSWkid(0)
Single Fused Map Cache: true
Tile Info:
- Height: 256.0
- Width: 256.0
- DPI: 96.0
-
Levels of Detail: 12
-
Level ID: 3
[ Start Tile, End Tile ]
- Resolution: 4.777313999999999
- Scale: 18055.953809279996
-
Level ID: 4
[ Start Tile, End Tile ]
- Resolution: 2.3886569999999994
- Scale: 9027.976904639998
-
Level ID: 5
[ Start Tile, End Tile ]
- Resolution: 1.1943289999999998
- Scale: 4513.990342079999
- Format: PNG8
- Compression Quality: 0.0
- Origin: X: -2.00377E7
Y: 3.02411E7
- Spatial Reference: 102113
(3785)
LatestVCSWkid(0)
Storage Info:
- Storage Format: esriMapCacheStorageModeCompactV2
- Packet Size: 128
Initial Extent:
XMin: -9654356.832679482
YMin: 3553252.1461235895
XMax: -9631845.861803528
YMax: 3569377.0634125923
Spatial Reference: 102113
(0)
LatestVCSWkid(0)
Full Extent:
XMin: -9652559.732418498
YMin: 3553287.20706947
XMax: -9633640.858775498
YMax: 3569344.823581794
Spatial Reference: 102113
(0)
LatestVCSWkid(0)
Units: esriMeters
Supported Image Format Types: PNG32,PNG24,PNG,JPG,DIB,TIFF,EMF,PS,PDF,GIF,SVG,SVGZ,BMP
Document Info:
Title: February 2010 Aerial
Author: Engineering GIS
Comments:
Subject:
Category:
Keywords:
AntialiasingMode: None
TextAntialiasingMode: Force
Supports Dynamic Layers: false
MaxRecordCount: 1000
MaxSelectionCount: 2000
MaxImageHeight: 4096
MaxImageWidth: 4096
Supported Query Formats: JSON, geoJSON, PBF
Supports Query Data Elements: true
Min Scale: 144447.6442
Max Scale: 70.52962271999999
Supports Datum Transformation: true
Child Resources:
Info
Supported Operations:
Export Map
QueryLegends
Return Updates