{
 "currentVersion": 11.5,
 "cimVersion": "3.5.0",
 "serviceDescription": "",
 "mapName": "Layers",
 "description": "",
 "copyrightText": "",
 "supportsDynamicLayers": false,
 "layers": [
  {
   "id": 0,
   "name": "Feb 2019 Aerial",
   "parentLayerId": -1,
   "defaultVisibility": true,
   "subLayerIds": null,
   "minScale": 0,
   "maxScale": 0,
   "type": "Raster Layer",
   "supportsDynamicLegends": true
  }
 ],
 "tables": [],
 "spatialReference": {
  "wkid": 102113,
  "latestWkid": 3785,
  "xyTolerance": 0.001,
  "zTolerance": 0.001,
  "mTolerance": 0.001,
  "falseX": -20037700,
  "falseY": -30241100,
  "xyUnits": 1.4892314192838538E8,
  "falseZ": -100000,
  "zUnits": 10000,
  "falseM": -100000,
  "mUnits": 10000
 },
 "singleFusedMapCache": true,
 "tileInfo": {
  "rows": 256,
  "cols": 256,
  "dpi": 96,
  "format": "PNG8",
  "compressionQuality": 0,
  "origin": {
   "x": -20037700,
   "y": 30241100
  },
  "spatialReference": {
   "wkid": 102113,
   "latestWkid": 3785,
   "xyTolerance": 0.001,
   "zTolerance": 0.001,
   "mTolerance": 0.001,
   "falseX": -20037700,
   "falseY": -30241100,
   "xyUnits": 1.4892314192838538E8,
   "falseZ": -100000,
   "zUnits": 10000,
   "falseM": -100000,
   "mUnits": 10000
  },
  "lods": [
   {
    "level": 0,
    "resolution": 38.2185156316146,
    "scale": 144447.6442
   },
   {
    "level": 1,
    "resolution": 19.109257,
    "scale": 72223.81901663999
   },
   {
    "level": 2,
    "resolution": 9.554629,
    "scale": 36111.911398079996
   },
   {
    "level": 3,
    "resolution": 4.777313999999999,
    "scale": 18055.953809279996
   },
   {
    "level": 4,
    "resolution": 2.3886569999999994,
    "scale": 9027.976904639998
   },
   {
    "level": 5,
    "resolution": 1.1943289999999998,
    "scale": 4513.990342079999
   },
   {
    "level": 6,
    "resolution": 0.597164,
    "scale": 2256.99328128
   },
   {
    "level": 7,
    "resolution": 0.298582,
    "scale": 1128.49664064
   },
   {
    "level": 8,
    "resolution": 0.149291,
    "scale": 564.24832032
   },
   {
    "level": 9,
    "resolution": 0.074644,
    "scale": 282.11849087999997
   },
   {
    "level": 10,
    "resolution": 0.037322,
    "scale": 141.05924543999998
   },
   {
    "level": 11,
    "resolution": 0.018661,
    "scale": 70.52962271999999
   }
  ]
 },
 "storageInfo": {
  "storageFormat": "esriMapCacheStorageModeCompactV2",
  "packetSize": 128
 },
 "initialExtent": {
  "xmin": -9654356.832679482,
  "ymin": 3553252.1461235895,
  "xmax": -9631845.861803528,
  "ymax": 3569377.0634125923,
  "spatialReference": {
   "cs": "pcs",
   "wkid": 102113
  }
 },
 "fullExtent": {
  "xmin": -9652559.732418498,
  "ymin": 3553287.20706947,
  "xmax": -9633640.858775498,
  "ymax": 3569344.823581794,
  "spatialReference": {
   "cs": "pcs",
   "wkid": 102113
  }
 },
 "datesInUnknownTimezone": false,
 "minScale": 144447.6442,
 "maxScale": 70.52962271999999,
 "units": "esriMeters",
 "supportedImageFormatTypes": "PNG32,PNG24,PNG,JPG,DIB,TIFF,EMF,PS,PDF,GIF,SVG,SVGZ,BMP",
 "documentInfo": {
  "Title": "February 2010 Aerial",
  "Author": "Engineering GIS",
  "Comments": "",
  "Subject": "",
  "Category": "",
  "Version": "10.1",
  "AntialiasingMode": "None",
  "TextAntialiasingMode": "Force",
  "Keywords": ""
 },
 "supportsQueryDomains": true,
 "capabilities": "Map",
 "supportedQueryFormats": "JSON, geoJSON, PBF",
 "exportTilesAllowed": false,
 "referenceScale": 0.0,
 "datumTransformations": [
  {
   "geoTransforms": [
    {
     "wkid": 108001,
     "latestWkid": 1241,
     "transformForward": true,
     "name": "NAD_1927_To_NAD_1983_NADCON"
    }
   ]
  },
  {
   "geoTransforms": [
    {
     "wkid": 108001,
     "latestWkid": 1241,
     "transformForward": false,
     "name": "NAD_1927_To_NAD_1983_NADCON"
    }
   ]
  }
 ],
 "supportsDatumTransformation": true,
 "archivingInfo": {
  "supportsHistoricMoment": false
 },
 "supportsClipping": true,
 "supportsSpatialFilter": true,
 "supportsTimeRelation": true,
 "supportsQueryDataElements": true,
 "mapUnits": {
  "uwkid": 9001
 },
 "maxSelectionCount": 2000,
 "maxRecordCount": 1000,
 "maxImageHeight": 4096,
 "maxImageWidth": 4096,
 "supportedExtensions": "",
 "serviceItemId": "05236492a9c748c39072ac3124a48011"
}
